BEGIN:VCALENDAR
VERSION:2.0
PRODID:-//Sint-Janscollege basisschool Heiveld - ECPv6.6.4.2//NONSGML v1.0//EN
CALSCALE:GREGORIAN
METHOD:PUBLISH
X-WR-CALNAME:Sint-Janscollege basisschool Heiveld
X-ORIGINAL-URL:https://sjcheiveld.be
X-WR-CALDESC:Evenementen voor Sint-Janscollege basisschool Heiveld
REFRESH-INTERVAL;VALUE=DURATION:PT1H
X-Robots-Tag:noindex
X-PUBLISHED-TTL:PT1H
BEGIN:VTIMEZONE
TZID:Europe/Paris
BEGIN:DAYLIGHT
TZOFFSETFROM:+0100
TZOFFSETTO:+0200
TZNAME:CEST
DTSTART:20230326T010000
END:DAYLIGHT
BEGIN:STANDARD
TZOFFSETFROM:+0200
TZOFFSETTO:+0100
TZNAME:CET
DTSTART:20231029T010000
END:STANDARD
END:VTIMEZONE
BEGIN:VEVENT
DTSTART;TZID=Europe/Paris:20231115T080000
DTEND;TZID=Europe/Paris:20231115T100000
DTSTAMP:20260421T184717
CREATED:20231021T200808Z
LAST-MODIFIED:20231021T200808Z
UID:5654-1700035200-1700042400@sjcheiveld.be
SUMMARY:1ste lj.: koffiemoment
DESCRIPTION:
URL:https://sjcheiveld.be/evenement/1ste-lj-koffiemoment/
END:VEVENT
BEGIN:VEVENT
DTSTART;TZID=Europe/Paris:20231116T200000
DTEND;TZID=Europe/Paris:20231116T220000
DTSTAMP:20260421T184717
CREATED:20231021T200912Z
LAST-MODIFIED:20231021T200912Z
UID:5658-1700164800-1700172000@sjcheiveld.be
SUMMARY:vergadering oudercomité
DESCRIPTION:
URL:https://sjcheiveld.be/evenement/vergadering-oudercomite-12/
END:VEVENT
BEGIN:VEVENT
DTSTART;VALUE=DATE:20231118
DTEND;VALUE=DATE:20231127
DTSTAMP:20260421T184717
CREATED:20231021T215758Z
LAST-MODIFIED:20231021T215810Z
UID:5791-1700265600-1701043199@sjcheiveld.be
SUMMARY:Voorleesweek
DESCRIPTION:
URL:https://sjcheiveld.be/evenement/voorleesweek-6/
END:VEVENT
BEGIN:VEVENT
DTSTART;VALUE=DATE:20231120
DTEND;VALUE=DATE:20231121
DTSTAMP:20260421T184717
CREATED:20231021T201113Z
LAST-MODIFIED:20231021T201113Z
UID:5666-1700438400-1700524799@sjcheiveld.be
SUMMARY:5de lj.: BIG BANG festival in de Bijloke
DESCRIPTION:
URL:https://sjcheiveld.be/evenement/5de-lj-big-bang-festival-in-de-bijloke/
END:VEVENT
BEGIN:VEVENT
DTSTART;VALUE=DATE:20231120
DTEND;VALUE=DATE:20231121
DTSTAMP:20260421T184717
CREATED:20231021T201222Z
LAST-MODIFIED:20231021T201222Z
UID:5670-1700438400-1700524799@sjcheiveld.be
SUMMARY:medisch consult (selectieve en afwezige leerlingen)
DESCRIPTION:
URL:https://sjcheiveld.be/evenement/medisch-consult-selectieve-en-afwezige-leerlingen/
END:VEVENT
BEGIN:VEVENT
DTSTART;VALUE=DATE:20231120
DTEND;VALUE=DATE:20231121
DTSTAMP:20260421T184717
CREATED:20231022T182245Z
LAST-MODIFIED:20231022T182245Z
UID:5800-1700438400-1700524799@sjcheiveld.be
SUMMARY:3de lj.: het Huis van Alijn
DESCRIPTION:
URL:https://sjcheiveld.be/evenement/3de-lj-het-huis-van-alijn/
END:VEVENT
BEGIN:VEVENT
DTSTART;VALUE=DATE:20231120
DTEND;VALUE=DATE:20231125
DTSTAMP:20260421T184717
CREATED:20231109T204712Z
LAST-MODIFIED:20231109T204712Z
UID:5833-1700438400-1700870399@sjcheiveld.be
SUMMARY:3de + 4de lj.: verkeersweek
DESCRIPTION:
URL:https://sjcheiveld.be/evenement/3de-4de-lj-verkeersweek/
END:VEVENT
BEGIN:VEVENT
DTSTART;TZID=Europe/Paris:20231120T160000
DTEND;TZID=Europe/Paris:20231120T200000
DTSTAMP:20260421T184717
CREATED:20231021T201005Z
LAST-MODIFIED:20231021T204926Z
UID:5660-1700496000-1700510400@sjcheiveld.be
SUMMARY:kleuterschool + 5de + 6de lj.: oudercontacten
DESCRIPTION:
URL:https://sjcheiveld.be/evenement/kleuterschool-5de-6de-lj-oudercontacten/
END:VEVENT
BEGIN:VEVENT
DTSTART;VALUE=DATE:20231121
DTEND;VALUE=DATE:20231122
DTSTAMP:20260421T184717
CREATED:20231021T201145Z
LAST-MODIFIED:20231021T201145Z
UID:5668-1700524800-1700611199@sjcheiveld.be
SUMMARY:4de + 5de lj.: vaccinatie mazelen/bof/rubella
DESCRIPTION:
URL:https://sjcheiveld.be/evenement/4de-5de-lj-vaccinatie-mazelen-bof-rubella/
END:VEVENT
BEGIN:VEVENT
DTSTART;TZID=Europe/Paris:20231121T160000
DTEND;TZID=Europe/Paris:20231121T200000
DTSTAMP:20260421T184717
CREATED:20231021T201025Z
LAST-MODIFIED:20231021T204907Z
UID:5662-1700582400-1700596800@sjcheiveld.be
SUMMARY:kleuterschool + 5de + 6de lj.: oudercontacten
DESCRIPTION:
URL:https://sjcheiveld.be/evenement/kleuterschool-5de-6de-lj-oudercontacten-2/
END:VEVENT
BEGIN:VEVENT
DTSTART;TZID=Europe/Paris:20231123T160000
DTEND;TZID=Europe/Paris:20231123T200000
DTSTAMP:20260421T184717
CREATED:20231021T201044Z
LAST-MODIFIED:20231021T204845Z
UID:5664-1700755200-1700769600@sjcheiveld.be
SUMMARY:kleuterschool + 5de + 6de lj.: oudercontacten
DESCRIPTION:
URL:https://sjcheiveld.be/evenement/kleuterschool-5de-6de-lj-oudercontacten-3/
END:VEVENT
BEGIN:VEVENT
DTSTART;TZID=Europe/Paris:20231125T170000
DTEND;TZID=Europe/Paris:20231125T210000
DTSTAMP:20260421T184717
CREATED:20231021T201246Z
LAST-MODIFIED:20231021T201246Z
UID:5672-1700931600-1700946000@sjcheiveld.be
SUMMARY:Spaghettifeest
DESCRIPTION:
URL:https://sjcheiveld.be/evenement/spaghettifeest/
END:VEVENT
BEGIN:VEVENT
DTSTART;TZID=Europe/Paris:20231126T080000
DTEND;TZID=Europe/Paris:20231126T100000
DTSTAMP:20260421T184717
CREATED:20231126T074043Z
LAST-MODIFIED:20231126T074043Z
UID:5927-1700985600-1700992800@sjcheiveld.be
SUMMARY:koffiemoment
DESCRIPTION:
URL:https://sjcheiveld.be/evenement/koffiemoment-13/
END:VEVENT
BEGIN:VEVENT
DTSTART;VALUE=DATE:20231127
DTEND;VALUE=DATE:20231128
DTSTAMP:20260421T184717
CREATED:20231021T200848Z
LAST-MODIFIED:20231107T205437Z
UID:5656-1701043200-1701129599@sjcheiveld.be
SUMMARY:jongste kleuters: Vertelfestival
DESCRIPTION:
URL:https://sjcheiveld.be/evenement/jongste-kleuters-vertelfestival/
END:VEVENT
BEGIN:VEVENT
DTSTART;VALUE=DATE:20231127
DTEND;VALUE=DATE:20231128
DTSTAMP:20260421T184717
CREATED:20231021T201309Z
LAST-MODIFIED:20231021T201309Z
UID:5674-1701043200-1701129599@sjcheiveld.be
SUMMARY:1ste lj.: Huis van de Sint
DESCRIPTION:
URL:https://sjcheiveld.be/evenement/1ste-lj-huis-van-de-sint/
END:VEVENT
BEGIN:VEVENT
DTSTART;VALUE=DATE:20231128
DTEND;VALUE=DATE:20231129
DTSTAMP:20260421T184717
CREATED:20231021T201331Z
LAST-MODIFIED:20231021T201331Z
UID:5676-1701129600-1701215999@sjcheiveld.be
SUMMARY:5de lj.: Industriemuseum
DESCRIPTION:
URL:https://sjcheiveld.be/evenement/5de-lj-industriemuseum/
END:VEVENT
BEGIN:VEVENT
DTSTART;VALUE=DATE:20231128
DTEND;VALUE=DATE:20231129
DTSTAMP:20260421T184717
CREATED:20231109T162458Z
LAST-MODIFIED:20231109T162458Z
UID:5819-1701129600-1701215999@sjcheiveld.be
SUMMARY:6A: STEM-Olympiade
DESCRIPTION:
URL:https://sjcheiveld.be/evenement/6a-stem-olympiade/
END:VEVENT
BEGIN:VEVENT
DTSTART;VALUE=DATE:20231129
DTEND;VALUE=DATE:20231130
DTSTAMP:20260421T184717
CREATED:20231109T162527Z
LAST-MODIFIED:20231109T162527Z
UID:5821-1701216000-1701302399@sjcheiveld.be
SUMMARY:6B: STEM-Olympiade
DESCRIPTION:
URL:https://sjcheiveld.be/evenement/6b-stem-olympiade/
END:VEVENT
BEGIN:VEVENT
DTSTART;TZID=Europe/Paris:20231129T080000
DTEND;TZID=Europe/Paris:20231129T100000
DTSTAMP:20260421T184717
CREATED:20231109T204748Z
LAST-MODIFIED:20231109T204748Z
UID:5835-1701244800-1701252000@sjcheiveld.be
SUMMARY:koffiemoment
DESCRIPTION:
URL:https://sjcheiveld.be/evenement/koffiemoment/
END:VEVENT
BEGIN:VEVENT
DTSTART;VALUE=DATE:20231130
DTEND;VALUE=DATE:20231201
DTSTAMP:20260421T184717
CREATED:20231021T201349Z
LAST-MODIFIED:20231021T201349Z
UID:5678-1701302400-1701388799@sjcheiveld.be
SUMMARY:5B: bezoek aan het stadhuis
DESCRIPTION:
URL:https://sjcheiveld.be/evenement/5b-bezoek-aan-het-stadhuis-2/
END:VEVENT
BEGIN:VEVENT
DTSTART;VALUE=DATE:20231203
DTEND;VALUE=DATE:20231204
DTSTAMP:20260421T184717
CREATED:20231126T073926Z
LAST-MODIFIED:20231126T073926Z
UID:5921-1701561600-1701647999@sjcheiveld.be
SUMMARY:1ste zondag van de advent
DESCRIPTION:
URL:https://sjcheiveld.be/evenement/1ste-zondag-van-de-advent/
END:VEVENT
BEGIN:VEVENT
DTSTART;VALUE=DATE:20231204
DTEND;VALUE=DATE:20231205
DTSTAMP:20260421T184717
CREATED:20231021T203346Z
LAST-MODIFIED:20231021T203346Z
UID:5682-1701648000-1701734399@sjcheiveld.be
SUMMARY:2de lj.: poppenspel Pedrolino
DESCRIPTION:
URL:https://sjcheiveld.be/evenement/2de-lj-poppenspel-pedrolino-2/
END:VEVENT
BEGIN:VEVENT
DTSTART;VALUE=DATE:20231206
DTEND;VALUE=DATE:20231207
DTSTAMP:20260421T184717
CREATED:20231021T203416Z
LAST-MODIFIED:20231021T203416Z
UID:5684-1701820800-1701907199@sjcheiveld.be
SUMMARY:kleuterschool: Sint op bezoek
DESCRIPTION:
URL:https://sjcheiveld.be/evenement/kleuterschool-sint-op-bezoek/
END:VEVENT
BEGIN:VEVENT
DTSTART;VALUE=DATE:20231207
DTEND;VALUE=DATE:20231208
DTSTAMP:20260421T184717
CREATED:20231109T204439Z
LAST-MODIFIED:20231109T204439Z
UID:5823-1701907200-1701993599@sjcheiveld.be
SUMMARY:1ste lj.: Vertelfestival Bablief
DESCRIPTION:
URL:https://sjcheiveld.be/evenement/1ste-lj-vertelfestival-bablief/
END:VEVENT
BEGIN:VEVENT
DTSTART;VALUE=DATE:20231208
DTEND;VALUE=DATE:20231220
DTSTAMP:20260421T184717
CREATED:20231109T204833Z
LAST-MODIFIED:20231109T204833Z
UID:5837-1701993600-1703030399@sjcheiveld.be
SUMMARY:6de lj.: proefwerkperiode
DESCRIPTION:
URL:https://sjcheiveld.be/evenement/6de-lj-proefwerkperiode/
END:VEVENT
BEGIN:VEVENT
DTSTART;TZID=Europe/Paris:20231208T120000
DTEND;TZID=Europe/Paris:20231208T130000
DTSTAMP:20260421T184717
CREATED:20231109T204901Z
LAST-MODIFIED:20231109T204901Z
UID:5839-1702036800-1702040400@sjcheiveld.be
SUMMARY:leerlingenraad
DESCRIPTION:
URL:https://sjcheiveld.be/evenement/leerlingenraad-12/
END:VEVENT
BEGIN:VEVENT
DTSTART;TZID=Europe/Paris:20231208T200000
DTEND;TZID=Europe/Paris:20231208T220000
DTSTAMP:20260421T184717
CREATED:20231109T162145Z
LAST-MODIFIED:20231109T162145Z
UID:5815-1702065600-1702072800@sjcheiveld.be
SUMMARY:Spelletjesavond (organisatie oudercomité)
DESCRIPTION:
URL:https://sjcheiveld.be/evenement/spelletjesavond-organisatie-oudercomite/
END:VEVENT
BEGIN:VEVENT
DTSTART;VALUE=DATE:20231211
DTEND;VALUE=DATE:20231212
DTSTAMP:20260421T184717
CREATED:20231021T203601Z
LAST-MODIFIED:20231109T205103Z
UID:5688-1702252800-1702339199@sjcheiveld.be
SUMMARY:6A: medisch consult (contactmoment met arts)
DESCRIPTION:
URL:https://sjcheiveld.be/evenement/6de-lj-medisch-consult-contactmoment-met-arts/
END:VEVENT
BEGIN:VEVENT
DTSTART;VALUE=DATE:20231213
DTEND;VALUE=DATE:20231214
DTSTAMP:20260421T184717
CREATED:20231022T182309Z
LAST-MODIFIED:20231022T182309Z
UID:5802-1702425600-1702511999@sjcheiveld.be
SUMMARY:3de lj.: poppentheater Pierke
DESCRIPTION:
URL:https://sjcheiveld.be/evenement/3de-lj-poppentheater-pierke-2/
END:VEVENT
BEGIN:VEVENT
DTSTART;TZID=Europe/Paris:20231213T080000
DTEND;TZID=Europe/Paris:20231213T100000
DTSTAMP:20260421T184717
CREATED:20231126T073950Z
LAST-MODIFIED:20231126T073950Z
UID:5923-1702454400-1702461600@sjcheiveld.be
SUMMARY:koffiemoment
DESCRIPTION:
URL:https://sjcheiveld.be/evenement/koffiemoment-12/
END:VEVENT
END:VCALENDAR