BEGIN:VCALENDAR
VERSION:2.0
PRODID:-//Sint-Janscollege basisschool Heiveld - ECPv6.6.4.2//NONSGML v1.0//EN
CALSCALE:GREGORIAN
METHOD:PUBLISH
X-WR-CALNAME:Sint-Janscollege basisschool Heiveld
X-ORIGINAL-URL:https://sjcheiveld.be
X-WR-CALDESC:Evenementen voor Sint-Janscollege basisschool Heiveld
REFRESH-INTERVAL;VALUE=DURATION:PT1H
X-Robots-Tag:noindex
X-PUBLISHED-TTL:PT1H
BEGIN:VTIMEZONE
TZID:Europe/Paris
BEGIN:DAYLIGHT
TZOFFSETFROM:+0100
TZOFFSETTO:+0200
TZNAME:CEST
DTSTART:20230326T010000
END:DAYLIGHT
BEGIN:STANDARD
TZOFFSETFROM:+0200
TZOFFSETTO:+0100
TZNAME:CET
DTSTART:20231029T010000
END:STANDARD
BEGIN:DAYLIGHT
TZOFFSETFROM:+0100
TZOFFSETTO:+0200
TZNAME:CEST
DTSTART:20240331T010000
END:DAYLIGHT
BEGIN:STANDARD
TZOFFSETFROM:+0200
TZOFFSETTO:+0100
TZNAME:CET
DTSTART:20241027T010000
END:STANDARD
END:VTIMEZONE
BEGIN:VEVENT
DTSTART;VALUE=DATE:20231130
DTEND;VALUE=DATE:20231201
DTSTAMP:20260421T051539
CREATED:20231021T201349Z
LAST-MODIFIED:20231021T201349Z
UID:5678-1701302400-1701388799@sjcheiveld.be
SUMMARY:5B: bezoek aan het stadhuis
DESCRIPTION:
URL:https://sjcheiveld.be/evenement/5b-bezoek-aan-het-stadhuis-2/
END:VEVENT
BEGIN:VEVENT
DTSTART;VALUE=DATE:20231203
DTEND;VALUE=DATE:20231204
DTSTAMP:20260421T051539
CREATED:20231126T073926Z
LAST-MODIFIED:20231126T073926Z
UID:5921-1701561600-1701647999@sjcheiveld.be
SUMMARY:1ste zondag van de advent
DESCRIPTION:
URL:https://sjcheiveld.be/evenement/1ste-zondag-van-de-advent/
END:VEVENT
BEGIN:VEVENT
DTSTART;VALUE=DATE:20231204
DTEND;VALUE=DATE:20231205
DTSTAMP:20260421T051539
CREATED:20231021T203346Z
LAST-MODIFIED:20231021T203346Z
UID:5682-1701648000-1701734399@sjcheiveld.be
SUMMARY:2de lj.: poppenspel Pedrolino
DESCRIPTION:
URL:https://sjcheiveld.be/evenement/2de-lj-poppenspel-pedrolino-2/
END:VEVENT
BEGIN:VEVENT
DTSTART;VALUE=DATE:20231206
DTEND;VALUE=DATE:20231207
DTSTAMP:20260421T051539
CREATED:20231021T203416Z
LAST-MODIFIED:20231021T203416Z
UID:5684-1701820800-1701907199@sjcheiveld.be
SUMMARY:kleuterschool: Sint op bezoek
DESCRIPTION:
URL:https://sjcheiveld.be/evenement/kleuterschool-sint-op-bezoek/
END:VEVENT
BEGIN:VEVENT
DTSTART;VALUE=DATE:20231207
DTEND;VALUE=DATE:20231208
DTSTAMP:20260421T051539
CREATED:20231109T204439Z
LAST-MODIFIED:20231109T204439Z
UID:5823-1701907200-1701993599@sjcheiveld.be
SUMMARY:1ste lj.: Vertelfestival Bablief
DESCRIPTION:
URL:https://sjcheiveld.be/evenement/1ste-lj-vertelfestival-bablief/
END:VEVENT
BEGIN:VEVENT
DTSTART;VALUE=DATE:20231208
DTEND;VALUE=DATE:20231220
DTSTAMP:20260421T051539
CREATED:20231109T204833Z
LAST-MODIFIED:20231109T204833Z
UID:5837-1701993600-1703030399@sjcheiveld.be
SUMMARY:6de lj.: proefwerkperiode
DESCRIPTION:
URL:https://sjcheiveld.be/evenement/6de-lj-proefwerkperiode/
END:VEVENT
BEGIN:VEVENT
DTSTART;TZID=Europe/Paris:20231208T120000
DTEND;TZID=Europe/Paris:20231208T130000
DTSTAMP:20260421T051539
CREATED:20231109T204901Z
LAST-MODIFIED:20231109T204901Z
UID:5839-1702036800-1702040400@sjcheiveld.be
SUMMARY:leerlingenraad
DESCRIPTION:
URL:https://sjcheiveld.be/evenement/leerlingenraad-12/
END:VEVENT
BEGIN:VEVENT
DTSTART;TZID=Europe/Paris:20231208T200000
DTEND;TZID=Europe/Paris:20231208T220000
DTSTAMP:20260421T051539
CREATED:20231109T162145Z
LAST-MODIFIED:20231109T162145Z
UID:5815-1702065600-1702072800@sjcheiveld.be
SUMMARY:Spelletjesavond (organisatie oudercomité)
DESCRIPTION:
URL:https://sjcheiveld.be/evenement/spelletjesavond-organisatie-oudercomite/
END:VEVENT
BEGIN:VEVENT
DTSTART;VALUE=DATE:20231211
DTEND;VALUE=DATE:20231212
DTSTAMP:20260421T051539
CREATED:20231021T203601Z
LAST-MODIFIED:20231109T205103Z
UID:5688-1702252800-1702339199@sjcheiveld.be
SUMMARY:6A: medisch consult (contactmoment met arts)
DESCRIPTION:
URL:https://sjcheiveld.be/evenement/6de-lj-medisch-consult-contactmoment-met-arts/
END:VEVENT
BEGIN:VEVENT
DTSTART;VALUE=DATE:20231213
DTEND;VALUE=DATE:20231214
DTSTAMP:20260421T051539
CREATED:20231022T182309Z
LAST-MODIFIED:20231022T182309Z
UID:5802-1702425600-1702511999@sjcheiveld.be
SUMMARY:3de lj.: poppentheater Pierke
DESCRIPTION:
URL:https://sjcheiveld.be/evenement/3de-lj-poppentheater-pierke-2/
END:VEVENT
BEGIN:VEVENT
DTSTART;TZID=Europe/Paris:20231213T080000
DTEND;TZID=Europe/Paris:20231213T100000
DTSTAMP:20260421T051539
CREATED:20231126T073950Z
LAST-MODIFIED:20231126T073950Z
UID:5923-1702454400-1702461600@sjcheiveld.be
SUMMARY:koffiemoment
DESCRIPTION:
URL:https://sjcheiveld.be/evenement/koffiemoment-12/
END:VEVENT
BEGIN:VEVENT
DTSTART;VALUE=DATE:20231218
DTEND;VALUE=DATE:20231219
DTSTAMP:20260421T051539
CREATED:20231021T203615Z
LAST-MODIFIED:20231109T205038Z
UID:5690-1702857600-1702943999@sjcheiveld.be
SUMMARY:6B: medisch consult (contactmoment met arts)
DESCRIPTION:
URL:https://sjcheiveld.be/evenement/6de-lj-medisch-consult-contactmoment-met-arts-2/
END:VEVENT
BEGIN:VEVENT
DTSTART;TZID=Europe/Paris:20231218T130000
DTEND;TZID=Europe/Paris:20231218T160000
DTSTAMP:20260421T051539
CREATED:20231109T205002Z
LAST-MODIFIED:20231109T205002Z
UID:5841-1702904400-1702915200@sjcheiveld.be
SUMMARY:6de lj.: bezoek aan Edugo De Brug
DESCRIPTION:
URL:https://sjcheiveld.be/evenement/6de-lj-bezoek-aan-edugo-de-brug/
END:VEVENT
BEGIN:VEVENT
DTSTART;VALUE=DATE:20231221
DTEND;VALUE=DATE:20231222
DTSTAMP:20260421T051539
CREATED:20231021T203644Z
LAST-MODIFIED:20231021T203644Z
UID:5692-1703116800-1703203199@sjcheiveld.be
SUMMARY:1ste t.e.m. 4de lj.: perioderapport 2 + syntheserapport 1
DESCRIPTION:
URL:https://sjcheiveld.be/evenement/1ste-t-e-m-4de-lj-perioderapport-2-syntheserapport-1/
END:VEVENT
BEGIN:VEVENT
DTSTART;VALUE=DATE:20231222
DTEND;VALUE=DATE:20231223
DTSTAMP:20260421T051539
CREATED:20231021T203723Z
LAST-MODIFIED:20231021T204011Z
UID:5694-1703203200-1703289599@sjcheiveld.be
SUMMARY:5de + 6de lj.: perioderapport 2 + syntheserapport 1
DESCRIPTION:
URL:https://sjcheiveld.be/evenement/5de-6de-lj-perioderapport-2-syntheserapport-1/
END:VEVENT
BEGIN:VEVENT
DTSTART;TZID=Europe/Paris:20231222T080000
DTEND;TZID=Europe/Paris:20231222T090000
DTSTAMP:20260421T051539
CREATED:20231126T074013Z
LAST-MODIFIED:20231126T074013Z
UID:5925-1703232000-1703235600@sjcheiveld.be
SUMMARY:kerstontbijt
DESCRIPTION:
URL:https://sjcheiveld.be/evenement/kerstontbijt-3/
END:VEVENT
BEGIN:VEVENT
DTSTART;VALUE=DATE:20231223
DTEND;VALUE=DATE:20240108
DTSTAMP:20260421T051539
CREATED:20230823T212329Z
LAST-MODIFIED:20230823T212329Z
UID:5528-1703289600-1704671999@sjcheiveld.be
SUMMARY:kerstvakantie
DESCRIPTION:
URL:https://sjcheiveld.be/evenement/kerstvakantie-7/
END:VEVENT
BEGIN:VEVENT
DTSTART;VALUE=DATE:20231225
DTEND;VALUE=DATE:20231226
DTSTAMP:20260421T051539
CREATED:20231021T203749Z
LAST-MODIFIED:20231021T203749Z
UID:5696-1703462400-1703548799@sjcheiveld.be
SUMMARY:Kerstmis
DESCRIPTION:
URL:https://sjcheiveld.be/evenement/kerstmis-4/
END:VEVENT
BEGIN:VEVENT
DTSTART;VALUE=DATE:20240108
DTEND;VALUE=DATE:20240109
DTSTAMP:20260421T051539
CREATED:20230823T213307Z
LAST-MODIFIED:20230823T213307Z
UID:5554-1704672000-1704758399@sjcheiveld.be
SUMMARY:instapmoment nieuwe kleuters
DESCRIPTION:
URL:https://sjcheiveld.be/evenement/instapmoment-nieuwe-kleuters-2/
END:VEVENT
BEGIN:VEVENT
DTSTART;VALUE=DATE:20240110
DTEND;VALUE=DATE:20240111
DTSTAMP:20260421T051539
CREATED:20231021T204145Z
LAST-MODIFIED:20231021T204145Z
UID:5698-1704844800-1704931199@sjcheiveld.be
SUMMARY:medisch consult (anderstalige nieuwkomers)
DESCRIPTION:
URL:https://sjcheiveld.be/evenement/medisch-consult-anderstalige-nieuwkomers/
END:VEVENT
BEGIN:VEVENT
DTSTART;TZID=Europe/Paris:20240110T080000
DTEND;TZID=Europe/Paris:20240110T100000
DTSTAMP:20260421T051539
CREATED:20231126T074558Z
LAST-MODIFIED:20231126T074558Z
UID:5941-1704873600-1704880800@sjcheiveld.be
SUMMARY:koffiemoment
DESCRIPTION:
URL:https://sjcheiveld.be/evenement/koffiemoment-14/
END:VEVENT
BEGIN:VEVENT
DTSTART;TZID=Europe/Paris:20240111T200000
DTEND;TZID=Europe/Paris:20240111T220000
DTSTAMP:20260421T051539
CREATED:20231021T204213Z
LAST-MODIFIED:20231021T204213Z
UID:5700-1705003200-1705010400@sjcheiveld.be
SUMMARY:vergadering oudercomité
DESCRIPTION:
URL:https://sjcheiveld.be/evenement/vergadering-oudercomite-14/
END:VEVENT
BEGIN:VEVENT
DTSTART;TZID=Europe/Paris:20240112T120000
DTEND;TZID=Europe/Paris:20240112T130000
DTSTAMP:20260421T051539
CREATED:20231109T205133Z
LAST-MODIFIED:20231109T205133Z
UID:5845-1705060800-1705064400@sjcheiveld.be
SUMMARY:leerlingenraad
DESCRIPTION:
URL:https://sjcheiveld.be/evenement/leerlingenraad-13/
END:VEVENT
BEGIN:VEVENT
DTSTART;VALUE=DATE:20240115
DTEND;VALUE=DATE:20240116
DTSTAMP:20260421T051539
CREATED:20231022T182345Z
LAST-MODIFIED:20231022T182345Z
UID:5804-1705276800-1705363199@sjcheiveld.be
SUMMARY:3B: Op zoek in het Museum (het huis van Kina)
DESCRIPTION:
URL:https://sjcheiveld.be/evenement/3b-op-zoek-in-het-museum-het-huis-van-kina/
END:VEVENT
BEGIN:VEVENT
DTSTART;VALUE=DATE:20240115
DTEND;VALUE=DATE:20240116
DTSTAMP:20260421T051539
CREATED:20231109T205212Z
LAST-MODIFIED:20231109T205212Z
UID:5847-1705276800-1705363199@sjcheiveld.be
SUMMARY:4B: Energie is Watt!
DESCRIPTION:
URL:https://sjcheiveld.be/evenement/4b-energie-is-watt-6/
END:VEVENT
BEGIN:VEVENT
DTSTART;VALUE=DATE:20240117
DTEND;VALUE=DATE:20240118
DTSTAMP:20260421T051539
CREATED:20231021T204232Z
LAST-MODIFIED:20231021T204232Z
UID:5702-1705449600-1705535999@sjcheiveld.be
SUMMARY:kleuterschool: grootouderfeest
DESCRIPTION:
URL:https://sjcheiveld.be/evenement/kleuterschool-grootouderfeest-2/
END:VEVENT
BEGIN:VEVENT
DTSTART;VALUE=DATE:20240117
DTEND;VALUE=DATE:20240127
DTSTAMP:20260421T051539
CREATED:20231109T205256Z
LAST-MODIFIED:20231109T205256Z
UID:5849-1705449600-1706313599@sjcheiveld.be
SUMMARY:5de lj.: grote toetsen
DESCRIPTION:
URL:https://sjcheiveld.be/evenement/5de-lj-grote-toetsen-6/
END:VEVENT
BEGIN:VEVENT
DTSTART;VALUE=DATE:20240118
DTEND;VALUE=DATE:20240119
DTSTAMP:20260421T051539
CREATED:20231022T182408Z
LAST-MODIFIED:20231022T182408Z
UID:5806-1705536000-1705622399@sjcheiveld.be
SUMMARY:3A: Op zoek in het Museum (het huis van Kina)
DESCRIPTION:
URL:https://sjcheiveld.be/evenement/3a-op-zoek-in-het-museum-het-huis-van-kina/
END:VEVENT
BEGIN:VEVENT
DTSTART;VALUE=DATE:20240123
DTEND;VALUE=DATE:20240124
DTSTAMP:20260421T051539
CREATED:20231109T205340Z
LAST-MODIFIED:20231109T205340Z
UID:5851-1705968000-1706054399@sjcheiveld.be
SUMMARY:4A: Energie is Watt!
DESCRIPTION:
URL:https://sjcheiveld.be/evenement/4a-energie-is-watt-6/
END:VEVENT
BEGIN:VEVENT
DTSTART;TZID=Europe/Paris:20240124T080000
DTEND;TZID=Europe/Paris:20240124T100000
DTSTAMP:20260421T051539
CREATED:20231109T205404Z
LAST-MODIFIED:20231109T205404Z
UID:5853-1706083200-1706090400@sjcheiveld.be
SUMMARY:koffiemoment
DESCRIPTION:
URL:https://sjcheiveld.be/evenement/koffiemoment-2/
END:VEVENT
END:VCALENDAR