BEGIN:VCALENDAR
VERSION:2.0
PRODID:-//Sint-Janscollege basisschool Heiveld - ECPv6.6.4.2//NONSGML v1.0//EN
CALSCALE:GREGORIAN
METHOD:PUBLISH
X-WR-CALNAME:Sint-Janscollege basisschool Heiveld
X-ORIGINAL-URL:https://sjcheiveld.be
X-WR-CALDESC:Evenementen voor Sint-Janscollege basisschool Heiveld
REFRESH-INTERVAL;VALUE=DURATION:PT1H
X-Robots-Tag:noindex
X-PUBLISHED-TTL:PT1H
BEGIN:VTIMEZONE
TZID:Europe/Paris
BEGIN:DAYLIGHT
TZOFFSETFROM:+0100
TZOFFSETTO:+0200
TZNAME:CEST
DTSTART:20230326T010000
END:DAYLIGHT
BEGIN:STANDARD
TZOFFSETFROM:+0200
TZOFFSETTO:+0100
TZNAME:CET
DTSTART:20231029T010000
END:STANDARD
END:VTIMEZONE
BEGIN:VEVENT
DTSTART;VALUE=DATE:20231028
DTEND;VALUE=DATE:20231106
DTSTAMP:20260420T232130
CREATED:20230823T212134Z
LAST-MODIFIED:20230823T212134Z
UID:5526-1698451200-1699228799@sjcheiveld.be
SUMMARY:herfstvakantie
DESCRIPTION:
URL:https://sjcheiveld.be/evenement/herfstvakantie-7/
END:VEVENT
BEGIN:VEVENT
DTSTART;VALUE=DATE:20231101
DTEND;VALUE=DATE:20231102
DTSTAMP:20260420T232130
CREATED:20231109T204457Z
LAST-MODIFIED:20231109T204457Z
UID:5825-1698796800-1698883199@sjcheiveld.be
SUMMARY:Allerheiligen
DESCRIPTION:
URL:https://sjcheiveld.be/evenement/allerheiligen-6/
END:VEVENT
END:VCALENDAR